BEGIN:VCALENDAR
VERSION:2.0
PRODID:icalendar-ruby
CALSCALE:GREGORIAN
METHOD:PUBLISH
BEGIN:VEVENT
DTSTAMP:20260425T163225Z
UID:5-406165@graceummission.org
DTSTART:20261101T150000Z
DTEND:20261101T160000Z
CLASS:PUBLIC
CREATED:20260425T111022
DESCRIPTION:Sunday Worship
LAST-MODIFIED:20260425T111022
LOCATION:
SUMMARY:Sunday Worship
URL;VALUE=URI:https://www.graceummission.org/events/sunday-worship/2026-11-
 01
END:VEVENT
END:VCALENDAR
