BEGIN:VCALENDAR
VERSION:2.0
PRODID:icalendar-ruby
CALSCALE:GREGORIAN
METHOD:PUBLISH
BEGIN:VEVENT
DTSTAMP:20260425T151659Z
UID:5-406164@graceummission.org
DTSTART:20261025T140000Z
DTEND:20261025T150000Z
CLASS:PUBLIC
CREATED:20260425T111022
DESCRIPTION:Sunday Worship
LAST-MODIFIED:20260425T111022
LOCATION:
SUMMARY:Sunday Worship
URL;VALUE=URI:https://www.graceummission.org/events/sunday-worship/2026-10-
 25
END:VEVENT
END:VCALENDAR
