BEGIN:VCALENDAR
VERSION:2.0
PRODID:icalendar-ruby
CALSCALE:GREGORIAN
METHOD:PUBLISH
BEGIN:VEVENT
DTSTAMP:20260425T111115Z
UID:5-405639@graceummission.org
DTSTART:20261004T140000Z
DTEND:20261004T150000Z
CLASS:PUBLIC
CREATED:20260424T224545
DESCRIPTION:Sunday Worship
LAST-MODIFIED:20260424T224545
LOCATION:
SUMMARY:Sunday Worship
URL;VALUE=URI:https://www.graceummission.org/events/sunday-worship/2026-10-
 04
END:VEVENT
END:VCALENDAR
